BEGIN:VCALENDAR
VERSION:2.0
PRODID:-//hacksw/handcal//NONSGML v1.0//EN
BEGIN:VEVENT
SUMMARY:Entrainement U18 F
UID:d1c7c6e5-b040-4fd9-836e-348e418f34ec
DTSTART:20241211T161500Z
DTEND:20241211T174500Z
LOCATION:Salle Pierre de Coubertin 74 rue de la Tresoriere 16000 ANGOULEME
CATEGORIES:Entrainement
STATUS:
URL;VALUE=URI:https://www.angoulemebasketclub.fr/evenements/2024/12/11/entrainement-u18-f-2089283
END:VEVENT
END:VCALENDAR
