BEGIN:VCALENDAR
VERSION:2.0
PRODID:-//hacksw/handcal//NONSGML v1.0//EN
BEGIN:VEVENT
SUMMARY:Entrainement U15 2
UID:025ef320-0795-4950-9654-d2d1146c54f6
DTSTART:20241211T181500Z
DTEND:20241211T193000Z
LOCATION:Localisation Gymnase Pierre Bodet 16000 Angouleme
CATEGORIES:Entrainement
STATUS:
URL;VALUE=URI:https://www.angoulemebasketclub.fr/evenements/2024/12/11/entrainement-u15-2-2089424
END:VEVENT
END:VCALENDAR
