BEGIN:VCALENDAR
VERSION:2.0
PRODID:-//hacksw/handcal//NONSGML v1.0//EN
BEGIN:VEVENT
SUMMARY:Entrainement RM3
UID:870bc7ac-a60e-4d25-a6eb-c734525f9ac1
DTSTART:20241211T193000Z
DTEND:20241211T210000Z
LOCATION:Localisation   
CATEGORIES:Entrainement
STATUS:
URL;VALUE=URI:https://www.angoulemebasketclub.fr/evenements/2024/12/11/entrainement-rm3-2089355
END:VEVENT
END:VCALENDAR
