BEGIN:VCALENDAR
VERSION:2.0
PRODID:-//hacksw/handcal//NONSGML v1.0//EN
BEGIN:VEVENT
SUMMARY:Entrainement DM2
UID:03de2c56-7db5-4ef3-abf1-f6b0f7a42568
DTSTART:20241211T193000Z
DTEND:20241211T213000Z
LOCATION:Localisation Gymnase Pierre Bodet 16000 Angouleme
CATEGORIES:Entrainement
STATUS:
URL;VALUE=URI:https://www.angoulemebasketclub.fr/evenements/2024/12/11/entrainement-dm2-2089462
END:VEVENT
END:VCALENDAR
